Workbook
Name Cat_DV: OFFSET('Riepilogo Magazzini'!$C$15,0,0,1,MAX(1,COUNTA('Riepilogo Magazzini'!$C$15:$H$15)))
Name Cat_List: 'Riepilogo Magazzini'!$C$15:$H$15
Name F_Cat: 'Dashboard'!$EO$61
Name F_City: 'Dashboard'!$D$119
Name F_Month: 'Dashboard'!$D$64
Name F_Status: 'Dashboard'!$EM$101
Name F_WH: 'Dashboard'!$BX$9
Name L_Cat: OFFSET(Calcoli!$U$3,0,0,1+COUNTA(Cat_List),1)
Name L_City: OFFSET(Calcoli!$S$3,0,0,1+COUNTA(WH_City),1)
Name L_Month: Calcoli!$T$3:$T$9
Name L_Prod: OFFSET('Anagrafica Prodotti'!$A$6,0,0,MAX(1,COUNTA('Anagrafica Prodotti'!$A$6:$A$505)),1)
Name L_Status: Calcoli!$V$3:$V$7
Name L_WH: OFFSET(Calcoli!$R$3,0,0,1+COUNTA(WH_Code),1)
Name Month_Labels: Calcoli!$C$15:$C$20
Name Month_Starts: Calcoli!$B$15:$B$20
Name N_Cat: Calcoli!$B$7
Name N_City: Calcoli!$B$5
Name N_Dmg: Calcoli!$B$10
Name N_Month: Calcoli!$B$6
Name N_Status: Calcoli!$B$8
Name N_Stock: Calcoli!$B$9
Name N_Util: Calcoli!$B$11
Name N_WH: Calcoli!$B$4
Name Open_Matrix: 'Riepilogo Magazzini'!$C$16:$H$20
Name Period_Start: 'Riepilogo Magazzini'!$D$24
Name Thr_Dmg: 'Dashboard'!$ET$117
Name Thr_Stock: 'Dashboard'!$ET$110
Name Thr_Util: 'Dashboard'!$ET$123
Name WH_Cap: 'Riepilogo Magazzini'!$D$7:$D$11
Name WH_City: 'Riepilogo Magazzini'!$C$7:$C$11
Name WH_Code: 'Riepilogo Magazzini'!$B$7:$B$11
Name WH_List: OFFSET('Riepilogo Magazzini'!$B$7,0,0,MAX(1,COUNTA('Riepilogo Magazzini'!$B$7:$B$11)),1)
Name WH_Open: 'Riepilogo Magazzini'!$E$7:$E$11

Sheet Dashboard
J2: DASHBOARD GESTIONE MAGAZZINO
BX3: Seleziona magazzino:
DI6: Oggi
BX9: Tutti | CW9: ▼
DI10: =TODAY() -> 46294
J12: Traccia • Monitora • Ottimizza • Migliora
G18: Dashboard
EI19: Conteggio / Stato
AC21: RICEVUTI TOTALI | AX21: SPEDITI TOTALI | BR21: GIACENZA FINALE | CO21: ARTICOLI DANNEGGIATI | DM21: UTILIZZO MEDIO %
AC22: =Calcoli!$B$64 -> 0 | AX22: =Calcoli!$B$65 -> 0 | BR22: =Calcoli!$B$66 -> 0 | CO22: =Calcoli!$B$67 -> 0 | DM22: =Calcoli!$B$68 -> 0
G25: Dati Magazzino
EQ26: ■ | ET26: ="Utilizzo alto ("&Calcoli!$B$94&")" -> Utilizzo alto (0)
ET28: ="Magazzini > "&FIXED(N_Util*100,0)&"%" -> Magazzini > 80%
AC30: =IF(ISNUMBER(Calcoli!$B$86),IF(Calcoli!$B$86>0,"▲",IF(Calcoli!$B$86<0,"▼","■")),"") | AE30: =IF(ISNUMBER(Calcoli!$B$86),Calcoli!$B$86,"n.d.") -> n.d. | AX30: =IF(ISNUMBER(Calcoli!$B$87),IF(Calcoli!$B$87>0,"▲",IF(Calcoli!$B$87<0,"▼","■")),"") | AZ30: =IF(ISNUMBER(Calcoli!$B$87),Calcoli!$B$87,"n.d.") -> n.d. | BR30: =IF(ISNUMBER(Calcoli!$B$88),IF(Calcoli!$B$88>0,"▲",IF(Calcoli!$B$88<0,"▼","■")),"") | BT30: =IF(ISNUMBER(Calcoli!$B$88),Calcoli!$B$88,"n.d.") -> n.d. | CO30: =IF(ISNUMBER(Calcoli!$B$89),IF(Calcoli!$B$89>0,"▲",IF(Calcoli!$B$89<0,"▼","■")),"") | CQ30: =IF(ISNUMBER(Calcoli!$B$89),Calcoli!$B$89,"n.d.") -> n.d. | DM30: =IF(ISNUMBER(Calcoli!$B$90),IF(Calcoli!$B$90>0,"▲",IF(Calcoli!$B$90<0,"▼","■")),"") | DN30: =IF(ISNUMBER(Calcoli!$B$90),Calcoli!$B$90,"n.d.") -> n.d.
EI34: Totale
G35: Anagrafica Prodotti | AE35: =Calcoli!$B$91 -> Dic-26 vs Nov-26 | AZ35: =Calcoli!$B$91 -> Dic-26 vs Nov-26 | BT35: =Calcoli!$B$91 -> Dic-26 vs Nov-26 | CQ35: =Calcoli!$B$91 -> Dic-26 vs Nov-26 | DN35: =Calcoli!$B$91 -> Dic-26 vs Nov-26 | EQ35: ■ | ET35: ="Danni elevati ("&Calcoli!$B$95&")" -> Danni elevati (0)
EI37: =Calcoli!$B$98 -> 0
ET38: ="Movimenti > "&FIXED(N_Dmg,0)&" pz" -> Movimenti > 10 pz
AB43: COSTO STOCCAGGIO | AW43: COSTO MOVIMENTAZIONE | BQ43: CAPACITÀ TOTALE | CN43: TASSO DANNI % | DL43: MOVIMENTI | EQ43: ■ | ET43: ="Scorta bassa ("&Calcoli!$B$96&")" -> Scorta bassa (0)
G44: Riepilogo Magazzini
ET46: ="Giacenza < "&FIXED(N_Stock,0)&" u." -> Giacenza < 1,000 u.
AB47: =Calcoli!$B$69 -> 0 | AW47: =Calcoli!$B$70 -> 0 | BQ47: =Calcoli!$B$71 -> 0 | CN47: =Calcoli!$B$72 -> 0 | DL47: =Calcoli!$B$73 -> 0
F55: Mese
EH59: Categoria
AA60: Ricevuti vs Spediti per magazzino | BK60: Danneggiati per categoria | CV60: Utilizzo magazzini %
EO61: Tutte | EW61: ▼
D64: Tutti | M64: ▼
EF68: =Calcoli!$A$45
D69: =Calcoli!$C$15 -> Lug-26 | I69: =Calcoli!$C$16 -> Ago-26 | L69: =Calcoli!$C$17 -> Set-26
EF72: =Calcoli!$A$46
D73: =Calcoli!$C$18 -> Ott-26 | I73: =Calcoli!$C$19 -> Nov-26 | L73: =Calcoli!$C$20 -> Dic-26
EF76: =Calcoli!$A$47
F79: Magazzino
EF82: =Calcoli!$A$48
D84: =Calcoli!$A$36
EF86: =Calcoli!$A$49
D88: =Calcoli!$A$37
EF90: =Calcoli!$A$50
D92: =Calcoli!$A$38
D97: =Calcoli!$A$39
...

Sheet Dati Magazzino
A1: DATI MAGAZZINO Dashboard Gestione Magazzino | I1: ◄ Dashboard | K1: Dati | M1: Prodotti | N1: Riepilogo
A2: Registro movimenti (una riga per movimento): inserisci qui i tuoi dati
A3: ■ Celle bianche con testo blu = da compilare ■ Celle grigie = calcolate in automatico (non modificare)
A5: ID | B5: Data | C5: Mese | D5: Magazzino | E5: Città | F5: Codice prodotto | G5: Prodotto | H5: Categoria | I5: Ricevuti | J5: Spediti | K5: Danneggiati | L5: Costo stoccaggio | M5: Costo movimentazione | N5: Giacenza dopo | O5: Utilizzo magazzino | P5: Scorta bassa | Q5: Danni elevati | R5: Utilizzo alto | S5: Stato | T5: Inizio mese | U5: Indice mese | V5: Filtro giacenza | W5: Filtro flussi
C6: =IF(tblMovimenti[[#This Row],[Data]]="","",CHOOSE(MONTH(tblMovimenti[[#This Row],[Data]]),"Gen","Feb","Mar","Apr","Mag","Giu","Lug","Ago","Set","Ott","Nov","Dic")&"-"&RIGHT(YEAR(tblMovimenti[[#This Row],[Data]]),2)) | E6: =IFERROR(INDEX(WH_City,MATCH(tblMovimenti[[#This Row],[Magazzino]],WH_Code,0)),"") | G6: =IFERROR(INDEX(tblProdotti[Prodotto],MATCH(tblMovimenti[[#This Row],[Codice prodotto]],tblProdotti[Codice],0)),"") | H6: =IFERROR(INDEX(tblProdotti[Categoria],MATCH(tblMovimenti[[#This Row],[Codice prodotto]],tblProdotti[Codice],0)),"") | N6: =IF(OR(tblMovimenti[[#This Row],[Magazzino]]="",tblMovimenti[[#This Row],[Categoria]]="",tblMovimenti[[#This Row],[Data]]=""),"",IFERROR(INDEX(Open_Matrix,MATCH(tblMovimenti[[#This Row],[Magazzino]],WH_Code,0),MATCH(tblMovimenti[[#This Row],[Categoria]],Cat_List,0)),0)+SUMIFS(tblMovimenti[Ricevuti],tblMovimenti[Magazzino],tblMovimenti[[#This Row],[Magazzino]],tblMovimenti[Categoria],tblMovimenti[[#This Row],[Categoria]],tblMovimenti[Data],"<="&tblMovimenti[[#This Row],[Data]])-SUMIFS(tblMovimenti[Spediti],tblMovimenti[Magazzino],tblMovimenti[[#This Row],[Magazzino]],tblMovimenti[Categoria],tblMovimenti[[#This Row],[Categoria]],tblMovimenti[Data],"<="&tblMovimenti[[#This Row],[Data]])-SUMIFS(tblMovimenti[Danneggiati],tblMovimenti[Magazzino],tblMovimenti[[#This Row],[Magazzino]],tblMovimenti[Categoria],tblMovimenti[[#This Row],[Categoria]],tblMovimenti[Data],"<="&tblMovimenti[[#This Row],[Data]])) | O6: =IF(OR(tblMovimenti[[#This Row],[Magazzino]]="",tblMovimenti[[#This Row],[Data]]=""),"",IFERROR((INDEX(WH_Open,MATCH(tblMovimenti[[#This Row],[Magazzino]],WH_Code,0))+SUMIFS(tblMovimenti[Ricevuti],tblMovimenti[Magazzino],tblMovimenti[[#This Row],[Magazzino]],tblMovimenti[Data],"<="&tblMovimenti[[#This Row],[Data]])-SUMIFS(tblMovimenti[Spediti],tblMovimenti[Magazzino],tblMovimenti[[#This Row],[Magazzino]],tblMovimenti[Data],"<="&tblMovimenti[[#This Row],[Data]])-SUMIFS(tblMovimenti[Danneggiati],tblMovimenti[Magazzino],tblMovimenti[[#This Row],[Magazzino]],tblMovimenti[Data],"<="&tblMovimenti[[#This Row],[Data]]))/INDEX(WH_Cap,MATCH(tblMovimenti[[#This Row],[Magazzino]],WH_Code,0)),"")) | P6: =IF(ISNUMBER(tblMovimenti[[#This Row],[Giacenza dopo]]),--(tblMovimenti[[#This Row],[Giacenza dopo]]<N_Stock),0) -> 0 | Q6: =--(N(tblMovimenti[[#This Row],[Danneggiati]])>N_Dmg) -> 0 | R6: =IF(ISNUMBER(tblMovimenti[[#This Row],[Utilizzo magazzino]]),--(tblMovimenti[[#This Row],[Utilizzo magazzino]]>N_Util),0) -> 0 | S6: =IF(tblMovimenti[[#This Row],[Magazzino]]="","",IF(tblMovimenti[[#This Row],[Scorta bassa]]+tblMovimenti[[#This Row],[Danni elevati]]+tblMovimenti[[#This Row],[Utilizzo alto]]>=2,"Critico",IF(tblMovimenti[[#This Row],[Scorta bassa]]+tblMovimenti[[#This Row],[Danni elevati]]+tblMovimenti[[#This Row],[Utilizzo alto]]=1,"Attenzione","OK"))) | T6: =IF(tblMovimenti[[#This Row],[Data]]="","",DATE(YEAR(tblMovimenti[[#This Row],[Data]]),MONTH(tblMovimenti[[#This Row],[Data]]),1)) | U6: =IF(tblMovimenti[[#This Row],[Data]]="",0,IFERROR(MATCH(tblMovimenti[[#This Row],[Inizio mese]],Month_Starts,0),0)) -> 0 | V6: =IF(tblMovimenti[[#This Row],[Magazzino]]="",0,--AND(OR(N_WH="Tutti",tblMovimenti[[#This Row],[Magazzino]]=N_WH),OR(N_City="Tutte",tblMovimenti[[#This Row],[Città]]=N_City),OR(N_Cat="Tutte",tblMovimenti[[#This Row],[Categoria]]=N_Cat))) -> 0 | W6: =tblMovimenti[[#This Row],[Filtro giacenza]]*IF(N_Status="Tutti",1,IF(N_Status="Scorta bassa",tblMovimenti[[#This Row],[Scorta bassa]],IF(N_Status="Danni elevati",tblMovimenti[[#This Row],[Danni elevati]],IF(N_Status="Utilizzo alto",tblMovimenti[[#This Row],[Utilizzo alto]],--(tblMovimenti[[#This Row],[Stato]]="Critico"))))) -> 0
A8: Per aggiungere un movimento scrivi nella prima riga vuota sotto la tabella: la tabella si estende e le colonne grigie si compilano da sole.
A9: Colonne tecniche nascoste (Inizio mese → Filtro flussi): premi il pulsante [+] sopra le colonne per vederle.

Sheet Anagrafica Prodotti
A1: ANAGRAFICA PRODOTTI Dashboard Gestione Magazzino | F1: ◄ Dashboard | G1: Dati | H1: Prodotti | I1: Riepilogo
A2: Elenco prodotti con categoria: il codice prodotto è quello da usare nei movimenti
A3: ■ Celle bianche con testo blu = da compilare ■ Celle grigie = calcolate in automatico (non modificare)
A5: Codice | B5: Prodotto | C5: Categoria | D5: UdM | E5: Movimenti | F5: Ricevuti | G5: Spediti | H5: Danneggiati | I5: Tasso danni
E6: =IF(tblProdotti[[#This Row],[Codice]]="","",COUNTIFS(tblMovimenti[Codice prodotto],tblProdotti[[#This Row],[Codice]])) | F6: =IF(tblProdotti[[#This Row],[Codice]]="","",SUMIFS(tblMovimenti[Ricevuti],tblMovimenti[Codice prodotto],tblProdotti[[#This Row],[Codice]])) | G6: =IF(tblProdotti[[#This Row],[Codice]]="","",SUMIFS(tblMovimenti[Spediti],tblMovimenti[Codice prodotto],tblProdotti[[#This Row],[Codice]])) | H6: =IF(tblProdotti[[#This Row],[Codice]]="","",SUMIFS(tblMovimenti[Danneggiati],tblMovimenti[Codice prodotto],tblProdotti[[#This Row],[Codice]])) | I6: =IF(tblProdotti[[#This Row],[Codice]]="","",IF(N(tblProdotti[[#This Row],[Ricevuti]])>0,tblProdotti[[#This Row],[Danneggiati]]/tblProdotti[[#This Row],[Ricevuti]],0))

Sheet Riepilogo Magazzini
A1: RIEPILOGO MAGAZZINI Dashboard Gestione Magazzino | J1: ◄ Dashboard | K1: Dati | L1: Prodotti | M1: Riepilogo
A2: Anagrafica magazzini, giacenze iniziali, impostazioni del periodo e riepilogo complessivo
A3: ■ Celle bianche con testo blu = da compilare ■ Celle grigie = calcolate in automatico (non modificare)
B5: 1 · ANAGRAFICA MAGAZZINI | F5: Codici, città e capacità (unità di stoccaggio). La dashboard gestisce 5 magazzini e 6 categorie.
B6: Codice | C6: Città | D6: Capacità (unità) | E6: Giacenza iniziale totale
E7: =IF(B7="","",SUM(C16:H16))
E8: =IF(B8="","",SUM(C17:H17))
E9: =IF(B9="","",SUM(C18:H18))
E10: =IF(B10="","",SUM(C19:H19))
E11: =IF(B11="","",SUM(C20:H20))
B13: 2 · GIACENZA INIZIALE PER CATEGORIA (unità) | H13: Stock presente prima del primo movimento registrato.
B15: Magazzino | I15: Totale
B16: =IF(B7="","",B7) | I16: =IF(B7="","",SUM(C16:H16))
B17: =IF(B8="","",B8) | I17: =IF(B8="","",SUM(C17:H17))
B18: =IF(B9="","",B9) | I18: =IF(B9="","",SUM(C18:H18))
B19: =IF(B10="","",B10) | I19: =IF(B10="","",SUM(C19:H19))
B20: =IF(B11="","",B11) | I20: =IF(B11="","",SUM(C20:H20))
C21: Le intestazioni blu delle categorie sono modificabili: usa gli stessi nomi in Anagrafica Prodotti.
B23: 3 · IMPOSTAZIONI
B24: Mese iniziale del periodo | D24: 46204 | E24: La dashboard mostra 6 mesi a partire da questo mese (conta solo mese e anno).
B26: 4 · RIEPILOGO PRESTAZIONI — intero registro, senza filtri
B27: Magazzino | C27: Città | D27: Movimenti | E27: Ricevuti | F27: Spediti | G27: Danneggiati | H27: Tasso danni | I27: Giacenza attuale | J27: Capacità | K27: Utilizzo | L27: Costo stoccaggio | M27: Costo movimentazione | N27: Movimenti con alert
B28: =IF(B7="","",B7) | C28: =IF(B7="","",C7) | D28: =IF($B28="","",COUNTIFS(tblMovimenti[Magazzino],$B28)) | E28: =IF($B28="","",SUMIFS(tblMovimenti[Ricevuti],tblMovimenti[Magazzino],$B28)) | F28: =IF($B28="","",SUMIFS(tblMovimenti[Spediti],tblMovimenti[Magazzino],$B28)) | G28: =IF($B28="","",SUMIFS(tblMovimenti[Danneggiati],tblMovimenti[Magazzino],$B28)) | H28: =IF($B28="","",IF(E28>0,G28/E28,0)) | I28: =IF($B28="","",E7+E28-F28-G28) | J28: =IF($B28="","",D7) | K28: =IF($B28="","",IF(N(J28)>0,I28/J28,0)) | L28: =IF($B28="","",SUMIFS(tblMovimenti[Costo stoccaggio],tblMovimenti[Magazzino],$B28)) | M28: =IF($B28="","",SUMIFS(tblMovimenti[Costo movimentazione],tblMovimenti[Magazzino],$B28)) | N28: =IF($B28="","",COUNTIFS(tblMovimenti[Magazzino],$B28,tblMovimenti[Stato],"<>OK"))
B29: =IF(B8="","",B8) | C29: =IF(B8="","",C8) | D29: =IF($B29="","",COUNTIFS(tblMovimenti[Magazzino],$B29)) | E29: =IF($B29="","",SUMIFS(tblMovimenti[Ricevuti],tblMovimenti[Magazzino],$B29)) | F29: =IF($B29="","",SUMIFS(tblMovimenti[Spediti],tblMovimenti[Magazzino],$B29)) | G29: =IF($B29="","",SUMIFS(tblMovimenti[Danneggiati],tblMovimenti[Magazzino],$B29)) | H29: =IF($B29="","",IF(E29>0,G29/E29,0)) | I29: =IF($B29="","",E8+E29-F29-G29) | J29: =IF($B29="","",D8) | K29: =IF($B29="","",IF(N(J29)>0,I29/J29,0)) | L29: =IF($B29="","",SUMIFS(tblMovimenti[Costo stoccaggio],tblMovimenti[Magazzino],$B29)) | M29: =IF($B29="","",SUMIFS(tblMovimenti[Costo movimentazione],tblMovimenti[Magazzino],$B29)) | N29: =IF($B29="","",COUNTIFS(tblMovimenti[Magazzino],$B29,tblMovimenti[Stato],"<>OK"))
B30: =IF(B9="","",B9) | C30: =IF(B9="","",C9) | D30: =IF($B30="","",COUNTIFS(tblMovimenti[Magazzino],$B30)) | E30: =IF($B30="","",SUMIFS(tblMovimenti[Ricevuti],tblMovimenti[Magazzino],$B30)) | F30: =IF($B30="","",SUMIFS(tblMovimenti[Spediti],tblMovimenti[Magazzino],$B30)) | G30: =IF($B30="","",SUMIFS(tblMovimenti[Danneggiati],tblMovimenti[Magazzino],$B30)) | H30: =IF($B30="","",IF(E30>0,G30/E30,0)) | I30: =IF($B30="","",E9+E30-F30-G30) | J30: =IF($B30="","",D9) | K30: =IF($B30="","",IF(N(J30)>0,I30/J30,0)) | L30: =IF($B30="","",SUMIFS(tblMovimenti[Costo stoccaggio],tblMovimenti[Magazzino],$B30)) | M30: =IF($B30="","",SUMIFS(tblMovimenti[Costo movimentazione],tblMovimenti[Magazzino],$B30)) | N30: =IF($B30="","",COUNTIFS(tblMovimenti[Magazzino],$B30,tblMovimenti[Stato],"<>OK"))
B31: =IF(B10="","",B10) | C31: =IF(B10="","",C10) | D31: =IF($B31="","",COUNTIFS(tblMovimenti[Magazzino],$B31)) | E31: =IF($B31="","",SUMIFS(tblMovimenti[Ricevuti],tblMovimenti[Magazzino],$B31)) | F31: =IF($B31="","",SUMIFS(tblMovimenti[Spediti],tblMovimenti[Magazzino],$B31)) | G31: =IF($B31="","",SUMIFS(tblMovimenti[Danneggiati],tblMovimenti[Magazzino],$B31)) | H31: =IF($B31="","",IF(E31>0,G31/E31,0)) | I31: =IF($B31="","",E10+E31-F31-G31) | J31: =IF($B31="","",D10) | K31: =IF($B31="","",IF(N(J31)>0,I31/J31,0)) | L31: =IF($B31="","",SUMIFS(tblMovimenti[Costo stoccaggio],tblMovimenti[Magazzino],$B31)) | M31: =IF($B31="","",SUMIFS(tblMovimenti[Costo movimentazione],tblMovimenti[Magazzino],$B31)) | N31: =IF($B31="","",COUNTIFS(tblMovimenti[Magazzino],$B31,tblMovimenti[Stato],"<>OK"))
B32: =IF(B11="","",B11) | C32: =IF(B11="","",C11) | D32: =IF($B32="","",COUNTIFS(tblMovimenti[Magazzino],$B32)) | E32: =IF($B32="","",SUMIFS(tblMovimenti[Ricevuti],tblMovimenti[Magazzino],$B32)) | F32: =IF($B32="","",SUMIFS(tblMovimenti[Spediti],tblMovimenti[Magazzino],$B32)) | G32: =IF($B32="","",SUMIFS(tblMovimenti[Danneggiati],tblMovimenti[Magazzino],$B32)) | H32: =IF($B32="","",IF(E32>0,G32/E32,0)) | I32: =IF($B32="","",E11+E32-F32-G32) | J32: =IF($B32="","",D11) | K32: =IF($B32="","",IF(N(J32)>0,I32/J32,0)) | L32: =IF($B32="","",SUMIFS(tblMovimenti[Costo stoccaggio],tblMovimenti[Magazzino],$B32)) | M32: =IF($B32="","",SUMIFS(tblMovimenti[Costo movimentazione],tblMovimenti[Magazzino],$B32)) | N32: =IF($B32="","",COUNTIFS(tblMovimenti[Magazzino],$B32,tblMovimenti[Stato],"<>OK"))
B33: Totale | D33: =SUM(D28:D32) -> 0 | E33: =SUM(E28:E32) -> 0 | F33: =SUM(F28:F32) -> 0 | G33: =SUM(G28:G32) -> 0 | H33: =IF(E33>0,G33/E33,0) -> 0 | I33: =SUM(I28:I32) -> 0 | J33: =SUM(J28:J32) -> 0 | K33: =IF(J33>0,I33/J33,0) -> 0 | L33: =SUM(L28:L32) -> 0 | M33: =SUM(M28:M32) -> 0 | N33: =SUM(N28:N32) -> 0
B35: GUIDA RAPIDA
B36: 1. Registra i movimenti nel foglio «Dati Magazzino»: una riga per movimento (data, magazzino, codice prodotto, quantità, costi). Le colonne grigie si calcolano da sole.
B37: 2. Tieni aggiornati qui magazzini, capacità e giacenze iniziali; i prodotti e le loro categorie vanno in «Anagrafica Prodotti».
B38: 3. In «Dashboard» scegli i filtri dai menu a tendina (▼): magazzino (in alto), mese, città, categoria e stato. I pulsanti colorati mostrano la selezione attiva.
B39: 4. Le soglie di allerta (scorta bassa, danni elevati, utilizzo alto) si cambiano nel riquadro «Soglie» della Dashboard (celle bianche).
B40: 5. «Vs mese prec.»: con Mese = Tutti confronta l'ultimo mese con movimenti con quello precedente; con un mese scelto, lo confronta col mese prima.
B41: 6. La Dashboard è protetta senza password per evitare modifiche accidentali: Revisione › Rimuovi protezione foglio.
B42: 7. Il file parte vuoto: inserisci magazzini e categorie qui (sezioni 1 e 2, dall'alto senza lasciare righe vuote), i prodotti in «Anagrafica Prodotti» e poi i movimenti in «Dati Magazzino».
B43: Icone: Tabler Icons (tabler.io/icons) — licenza MIT, © Paweł Kuna.

Sheet Calcoli
A1: CALCOLI — foglio tecnico della dashboard (non modificare)
R2: H · ELENCHI MENU
A3: A · FILTRI E SOGLIE (dalla Dashboard) | R3: Tutti | S3: Tutte | T3: Tutti | U3: Tutte | V3: Tutti
A4: Filtro magazzino | B4: =IF(TRIM(F_WH&"")="","Tutti",F_WH) -> Tutti | R4: =IF(INDEX(WH_Code,1)="","",INDEX(WH_Code,1)) | S4: =IF(INDEX(WH_City,1)="","",INDEX(WH_City,1)) | T4: =C15 -> Lug-26 | U4: =IF(INDEX(Cat_List,1)="","",INDEX(Cat_List,1)) | V4: Scorta bassa
A5: Filtro città | B5: =IF(TRIM(F_City&"")="","Tutte",F_City) -> Tutte | R5: =IF(INDEX(WH_Code,2)="","",INDEX(WH_Code,2)) | S5: =IF(INDEX(WH_City,2)="","",INDEX(WH_City,2)) | T5: =C16 -> Ago-26 | U5: =IF(INDEX(Cat_List,2)="","",INDEX(Cat_List,2)) | V5: Danni elevati
A6: Filtro mese | B6: =IF(TRIM(F_Month&"")="","Tutti",F_Month) -> Tutti | R6: =IF(INDEX(WH_Code,3)="","",INDEX(WH_Code,3)) | S6: =IF(INDEX(WH_City,3)="","",INDEX(WH_City,3)) | T6: =C17 -> Set-26 | U6: =IF(INDEX(Cat_List,3)="","",INDEX(Cat_List,3)) | V6: Utilizzo alto
A7: Filtro categoria | B7: =IF(TRIM(F_Cat&"")="","Tutte",F_Cat) -> Tutte | R7: =IF(INDEX(WH_Code,4)="","",INDEX(WH_Code,4)) | S7: =IF(INDEX(WH_City,4)="","",INDEX(WH_City,4)) | T7: =C18 -> Ott-26 | U7: =IF(INDEX(Cat_List,4)="","",INDEX(Cat_List,4)) | V7: Stato critico
A8: Filtro stato | B8: =IF(TRIM(F_Status&"")="","Tutti",F_Status) -> Tutti | R8: =IF(INDEX(WH_Code,5)="","",INDEX(WH_Code,5)) | S8: =IF(INDEX(WH_City,5)="","",INDEX(WH_City,5)) | T8: =C19 -> Nov-26 | U8: =IF(INDEX(Cat_List,5)="","",INDEX(Cat_List,5))
A9: Soglia scorta bassa (<) | B9: =IF(ISNUMBER(Thr_Stock),Thr_Stock,1000) -> 1000 | T9: =C20 -> Dic-26 | U9: =IF(INDEX(Cat_List,6)="","",INDEX(Cat_List,6))
A10: Soglia danni elevati (>) | B10: =IF(ISNUMBER(Thr_Dmg),Thr_Dmg,10) -> 10
A11: Soglia utilizzo alto (>) | B11: =IF(ISNUMBER(Thr_Util),Thr_Util,0.8) -> 0.8
A13: B · PERIODO
A14: Mese n. | B14: Inizio mese | C14: Etichetta | D14: Fine mese
A15: 1 | B15: =DATE(YEAR(Period_Start),MONTH(Period_Start)+0,1) -> 46204 | C15: =CHOOSE(MONTH(B15),"Gen","Feb","Mar","Apr","Mag","Giu","Lug","Ago","Set","Ott","Nov","Dic")&"-"&RIGHT(YEAR(B15),2) -> Lug-26 | D15: =EOMONTH(B15,0) -> 46234
A16: 2 | B16: =DATE(YEAR(Period_Start),MONTH(Period_Start)+1,1) -> 46235 | C16: =CHOOSE(MONTH(B16),"Gen","Feb","Mar","Apr","Mag","Giu","Lug","Ago","Set","Ott","Nov","Dic")&"-"&RIGHT(YEAR(B16),2) -> Ago-26 | D16: =EOMONTH(B16,0) -> 46265
A17: 3 | B17: =DATE(YEAR(Period_Start),MONTH(Period_Start)+2,1) -> 46266 | C17: =CHOOSE(MONTH(B17),"Gen","Feb","Mar","Apr","Mag","Giu","Lug","Ago","Set","Ott","Nov","Dic")&"-"&RIGHT(YEAR(B17),2) -> Set-26 | D17: =EOMONTH(B17,0) -> 46295
A18: 4 | B18: =DATE(YEAR(Period_Start),MONTH(Period_Start)+3,1) -> 46296 | C18: =CHOOSE(MONTH(B18),"Gen","Feb","Mar","Apr","Mag","Giu","Lug","Ago","Set","Ott","Nov","Dic")&"-"&RIGHT(YEAR(B18),2) -> Ott-26 | D18: =EOMONTH(B18,0) -> 46326
A19: 5 | B19: =DATE(YEAR(Period_Start),MONTH(Period_Start)+4,1) -> 46327 | C19: =CHOOSE(MONTH(B19),"Gen","Feb","Mar","Apr","Mag","Giu","Lug","Ago","Set","Ott","Nov","Dic")&"-"&RIGHT(YEAR(B19),2) -> Nov-26 | D19: =EOMONTH(B19,0) -> 46356
A20: 6 | B20: =DATE(YEAR(Period_Start),MONTH(Period_Start)+5,1) -> 46357 | C20: =CHOOSE(MONTH(B20),"Gen","Feb","Mar","Apr","Mag","Giu","Lug","Ago","Set","Ott","Nov","Dic")&"-"&RIGHT(YEAR(B20),2) -> Dic-26 | D20: =EOMONTH(B20,0) -> 46387
A22: Mese selezionato (0 = tutti) | B22: =IF(N_Month="Tutti",0,IFERROR(MATCH(N_Month,Month_Labels,0),0)) -> 0
A23: Indice mese da | B23: =IF(B22=0,1,B22) -> 1
A24: Indice mese a | B24: =IF(B22=0,6,B22) -> 6
A25: Data fine periodo (giacenza) | B25: =INDEX($D$15:$D$20,B24) -> 46387
A26: Mese di riferimento (confronto) | B26: =IF(B22>0,B22,IF(SUM($F$55:$F$60)=0,6,SUMPRODUCT(MAX(($F$55:$F$60>0)*$A$55:$A$60)))) -> 6
A27: Inizio mese riferimento | B27: =INDEX(Month_Starts,B26) -> 46357
A28: Inizio mese precedente | B28: =EDATE(B27,-1) -> 46327
A29: Fine mese riferimento | B29: =EOMONTH(B27,0) -> 46387
A30: Fine mese precedente | B30: =EOMONTH(B28,0) -> 46356
A31: Etichetta mese riferimento | B31: =CHOOSE(MONTH(B27),"Gen","Feb","Mar","Apr","Mag","Giu","Lug","Ago","Set","Ott","Nov","Dic")&"-"&RIGHT(YEAR(B27),2) -> Dic-26
A32: Etichetta mese precedente | B32: =CHOOSE(MONTH(B28),"Gen","Feb","Mar","Apr","Mag","Giu","Lug","Ago","Set","Ott","Nov","Dic")&"-"&RIGHT(YEAR(B28),2) -> Nov-26
A34: C · PER MAGAZZINO (contesto filtrato)
A35: Codice | B35: Città | C35: Incluso | D35: Movimenti | E35: Ricevuti | F35: Spediti | G35: Danneggiati | H35: Giacenza iniziale | I35: Giacenza finale | J35: Capacità | K35: Utilizzo | L35: Costo stoccaggio | M35: Costo movimentazione | N35: Giacenza fine mese rif. | O35: Giacenza fine mese prec.
A36: =IF(INDEX(WH_Code,1)="","",INDEX(WH_Code,1)) | B36: =IF(INDEX(WH_Code,1)="","",INDEX(WH_City,1)&"") | C36: =--AND(A36<>"",OR(N_WH="Tutti",A36=N_WH),OR(N_City="Tutte",B36=N_City)) -> 0 | D36: =COUNTIFS(tblMovimenti[Magazzino],$A36,tblMovimenti[Filtro flussi],1,tblMovimenti[Indice mese],">="&$B$23,tblMovimenti[Indice mese],"<="&$B$24) -> 0 | E36: =SUMIFS(tblMovimenti[Ricevuti],tblMovimenti[Magazzino],$A36,tblMovimenti[Filtro flussi],1,tblMovimenti[Indice mese],">="&$B$23,tblMovimenti[Indice mese],"<="&$B$24) -> 0 | F36: =SUMIFS(tblMovimenti[Spediti],tblMovimenti[Magazzino],$A36,tblMovimenti[Filtro flussi],1,tblMovimenti[Indice mese],">="&$B$23,tblMovimenti[Indice mese],"<="&$B$24) -> 0 | G36: =SUMIFS(tblMovimenti[Danneggiati],tblMovimenti[Magazzino],$A36,tblMovimenti[Filtro flussi],1,tblMovimenti[Indice mese],">="&$B$23,tblMovimenti[Indice mese],"<="&$B$24) -> 0 | H36: =C36*IF(N_Cat="Tutte",SUM(INDEX(Open_Matrix,1,0)),IFERROR(INDEX(Open_Matrix,1,MATCH(N_Cat,Cat_List,0)),0)) -> 0 | I36: =IF(C36=1,H36+SUMIFS(tblMovimenti[Ricevuti],tblMovimenti[Magazzino],$A36,tblMovimenti[Filtro giacenza],1,tblMovimenti[Data],"<="&$B$25)-SUMIFS(tblMovimenti[Spediti],tblMovimenti[Magazzino],$A36,tblMovimenti[Filtro giacenza],1,tblMovimenti[Data],"<="&$B$25)-SUMIFS(tblMovimenti[Danneggiati],tblMovimenti[Magazzino],$A36,tblMovimenti[Filtro giacenza],1,tblMovimenti[Data],"<="&$B$25),0) -> 0 | J36: =C36*INDEX(WH_Cap,1) -> 0 | K36: =IF(J36>0,I36/J36,0) -> 0 | L36: =SUMIFS(tblMovimenti[Costo stoccaggio],tblMovimenti[Magazzino],$A36,tblMovimenti[Filtro flussi],1,tblMovimenti[Indice mese],">="&$B$23,tblMovimenti[Indice mese],"<="&$B$24) -> 0 | M36: =SUMIFS(tblMovimenti[Costo movimentazione],tblMovimenti[Magazzino],$A36,tblMovimenti[Filtro flussi],1,tblMovimenti[Indice mese],">="&$B$23,tblMovimenti[Indice mese],"<="&$B$24) -> 0 | N36: =IF(C36=1,H36+SUMIFS(tblMovimenti[Ricevuti],tblMovimenti[Magazzino],$A36,tblMovimenti[Filtro giacenza],1,tblMovimenti[Data],"<="&$B$29)-SUMIFS(tblMovimenti[Spediti],tblMovimenti[Magazzino],$A36,tblMovimenti[Filtro giacenza],1,tblMovimenti[Data],"<="&$B$29)-SUMIFS(tblMovimenti[Danneggiati],tblMovimenti[Magazzino],$A36,tblMovimenti[Filtro giacenza],1,tblMovimenti[Data],"<="&$B$29),0) -> 0 | O36: =IF(C36=1,H36+SUMIFS(tblMovimenti[Ricevuti],tblMovimenti[Magazzino],$A36,tblMovimenti[Filtro giacenza],1,tblMovimenti[Data],"<="&$B$30)-SUMIFS(tblMovimenti[Spediti],tblMovimenti[Magazzino],$A36,tblMovimenti[Filtro giacenza],1,tblMovimenti[Data],"<="&$B$30)-SUMIFS(tblMovimenti[Danneggiati],tblMovimenti[Magazzino],$A36,tblMovimenti[Filtro giacenza],1,tblMovimenti[Data],"<="&$B$30),0) -> 0
A37: =IF(INDEX(WH_Code,2)="","",INDEX(WH_Code,2)) | B37: =IF(INDEX(WH_Code,2)="","",INDEX(WH_City,2)&"") | C37: =--AND(A37<>"",OR(N_WH="Tutti",A37=N_WH),OR(N_City="Tutte",B37=N_City)) -> 0 | D37: =COUNTIFS(tblMovimenti[Magazzino],$A37,tblMovimenti[Filtro flussi],1,tblMovimenti[Indice mese],">="&$B$23,tblMovimenti[Indice mese],"<="&$B$24) -> 0 | E37: =SUMIFS(tblMovimenti[Ricevuti],tblMovimenti[Magazzino],$A37,tblMovimenti[Filtro flussi],1,tblMovimenti[Indice mese],">="&$B$23,tblMovimenti[Indice mese],"<="&$B$24) -> 0 | F37: =SUMIFS(tblMovimenti[Spediti],tblMovimenti[Magazzino],$A37,tblMovimenti[Filtro flussi],1,tblMovimenti[Indice mese],">="&$B$23,tblMovimenti[Indice mese],"<="&$B$24) -> 0 | G37: =SUMIFS(tblMovimenti[Danneggiati],tblMovimenti[Magazzino],$A37,tblMovimenti[Filtro flussi],1,tblMovimenti[Indice mese],">="&$B$23,tblMovimenti[Indice mese],"<="&$B$24) -> 0 | H37: =C37*IF(N_Cat="Tutte",SUM(INDEX(Open_Matrix,2,0)),IFERROR(INDEX(Open_Matrix,2,MATCH(N_Cat,Cat_List,0)),0)) -> 0 | I37: =IF(C37=1,H37+SUMIFS(tblMovimenti[Ricevuti],tblMovimenti[Magazzino],$A37,tblMovimenti[Filtro giacenza],1,tblMovimenti[Data],"<="&$B$25)-SUMIFS(tblMovimenti[Spediti],tblMovimenti[Magazzino],$A37,tblMovimenti[Filtro giacenza],1,tblMovimenti[Data],"<="&$B$25)-SUMIFS(tblMovimenti[Danneggiati],tblMovimenti[Magazzino],$A37,tblMovimenti[Filtro giacenza],1,tblMovimenti[Data],"<="&$B$25),0) -> 0 | J37: =C37*INDEX(WH_Cap,2) -> 0 | K37: =IF(J37>0,I37/J37,0) -> 0 | L37: =SUMIFS(tblMovimenti[Costo stoccaggio],tblMovimenti[Magazzino],$A37,tblMovimenti[Filtro flussi],1,tblMovimenti[Indice mese],">="&$B$23,tblMovimenti[Indice mese],"<="&$B$24) -> 0 | M37: =SUMIFS(tblMovimenti[Costo movimentazione],tblMovimenti[Magazzino],$A37,tblMovimenti[Filtro flussi],1,tblMovimenti[Indice mese],">="&$B$23,tblMovimenti[Indice mese],"<="&$B$24) -> 0 | N37: =IF(C37=1,H37+SUMIFS(tblMovimenti[Ricevuti],tblMovimenti[Magazzino],$A37,tblMovimenti[Filtro giacenza],1,tblMovimenti[Data],"<="&$B$29)-SUMIFS(tblMovimenti[Spediti],tblMovimenti[Magazzino],$A37,tblMovimenti[Filtro giacenza],1,tblMovimenti[Data],"<="&$B$29)-SUMIFS(tblMovimenti[Danneggiati],tblMovimenti[Magazzino],$A37,tblMovimenti[Filtro giacenza],1,tblMovimenti[Data],"<="&$B$29),0) -> 0 | O37: =IF(C37=1,H37+SUMIFS(tblMovimenti[Ricevuti],tblMovimenti[Magazzino],$A37,tblMovimenti[Filtro giacenza],1,tblMovimenti[Data],"<="&$B$30)-SUMIFS(tblMovimenti[Spediti],tblMovimenti[Magazzino],$A37,tblMovimenti[Filtro giacenza],1,tblMovimenti[Data],"<="&$B$30)-SUMIFS(tblMovimenti[Danneggiati],tblMovimenti[Magazzino],$A37,tblMovimenti[Filtro giacenza],1,tblMovimenti[Data],"<="&$B$30),0) -> 0
A38: =IF(INDEX(WH_Code,3)="","",INDEX(WH_Code,3)) | B38: =IF(INDEX(WH_Code,3)="","",INDEX(WH_City,3)&"") | C38: =--AND(A38<>"",OR(N_WH="Tutti",A38=N_WH),OR(N_City="Tutte",B38=N_City)) -> 0 | D38: =COUNTIFS(tblMovimenti[Magazzino],$A38,tblMovimenti[Filtro flussi],1,tblMovimenti[Indice mese],">="&$B$23,tblMovimenti[Indice mese],"<="&$B$24) -> 0 | E38: =SUMIFS(tblMovimenti[Ricevuti],tblMovimenti[Magazzino],$A38,tblMovimenti[Filtro flussi],1,tblMovimenti[Indice mese],">="&$B$23,tblMovimenti[Indice mese],"<="&$B$24) -> 0 | F38: =SUMIFS(tblMovimenti[Spediti],tblMovimenti[Magazzino],$A38,tblMovimenti[Filtro flussi],1,tblMovimenti[Indice mese],">="&$B$23,tblMovimenti[Indice mese],"<="&$B$24) -> 0 | G38: =SUMIFS(tblMovimenti[Danneggiati],tblMovimenti[Magazzino],$A38,tblMovimenti[Filtro flussi],1,tblMovimenti[Indice mese],">="&$B$23,tblMovimenti[Indice mese],"<="&$B$24) -> 0 | H38: =C38*IF(N_Cat="Tutte",SUM(INDEX(Open_Matrix,3,0)),IFERROR(INDEX(Open_Matrix,3,MATCH(N_Cat,Cat_List,0)),0)) -> 0 | I38: =IF(C38=1,H38+SUMIFS(tblMovimenti[Ricevuti],tblMovimenti[Magazzino],$A38,tblMovimenti[Filtro giacenza],1,tblMovimenti[Data],"<="&$B$25)-SUMIFS(tblMovimenti[Spediti],tblMovimenti[Magazzino],$A38,tblMovimenti[Filtro giacenza],1,tblMovimenti[Data],"<="&$B$25)-SUMIFS(tblMovimenti[Danneggiati],tblMovimenti[Magazzino],$A38,tblMovimenti[Filtro giacenza],1,tblMovimenti[Data],"<="&$B$25),0) -> 0 | J38: =C38*INDEX(WH_Cap,3) -> 0 | K38: =IF(J38>0,I38/J38,0) -> 0 | L38: =SUMIFS(tblMovimenti[Costo stoccaggio],tblMovimenti[Magazzino],$A38,tblMovimenti[Filtro flussi],1,tblMovimenti[Indice mese],">="&$B$23,tblMovimenti[Indice mese],"<="&$B$24) -> 0 | M38: =SUMIFS(tblMovimenti[Costo movimentazione],tblMovimenti[Magazzino],$A38,tblMovimenti[Filtro flussi],1,tblMovimenti[Indice mese],">="&$B$23,tblMovimenti[Indice mese],"<="&$B$24) -> 0 | N38: =IF(C38=1,H38+SUMIFS(tblMovimenti[Ricevuti],tblMovimenti[Magazzino],$A38,tblMovimenti[Filtro giacenza],1,tblMovimenti[Data],"<="&$B$29)-SUMIFS(tblMovimenti[Spediti],tblMovimenti[Magazzino],$A38,tblMovimenti[Filtro giacenza],1,tblMovimenti[Data],"<="&$B$29)-SUMIFS(tblMovimenti[Danneggiati],tblMovimenti[Magazzino],$A38,tblMovimenti[Filtro giacenza],1,tblMovimenti[Data],"<="&$B$29),0) -> 0 | O38: =IF(C38=1,H38+SUMIFS(tblMovimenti[Ricevuti],tblMovimenti[Magazzino],$A38,tblMovimenti[Filtro giacenza],1,tblMovimenti[Data],"<="&$B$30)-SUMIFS(tblMovimenti[Spediti],tblMovimenti[Magazzino],$A38,tblMovimenti[Filtro giacenza],1,tblMovimenti[Data],"<="&$B$30)-SUMIFS(tblMovimenti[Danneggiati],tblMovimenti[Magazzino],$A38,tblMovimenti[Filtro giacenza],1,tblMovimenti[Data],"<="&$B$30),0) -> 0
A39: =IF(INDEX(WH_Code,4)="","",INDEX(WH_Code,4)) | B39: =IF(INDEX(WH_Code,4)="","",INDEX(WH_City,4)&"") | C39: =--AND(A39<>"",OR(N_WH="Tutti",A39=N_WH),OR(N_City="Tutte",B39=N_City)) -> 0 | D39: =COUNTIFS(tblMovimenti[Magazzino],$A39,tblMovimenti[Filtro flussi],1,tblMovimenti[Indice mese],">="&$B$23,tblMovimenti[Indice mese],"<="&$B$24) -> 0 | E39: =SUMIFS(tblMovimenti[Ricevuti],tblMovimenti[Magazzino],$A39,tblMovimenti[Filtro flussi],1,tblMovimenti[Indice mese],">="&$B$23,tblMovimenti[Indice mese],"<="&$B$24) -> 0 | F39: =SUMIFS(tblMovimenti[Spediti],tblMovimenti[Magazzino],$A39,tblMovimenti[Filtro flussi],1,tblMovimenti[Indice mese],">="&$B$23,tblMovimenti[Indice mese],"<="&$B$24) -> 0 | G39: =SUMIFS(tblMovimenti[Danneggiati],tblMovimenti[Magazzino],$A39,tblMovimenti[Filtro flussi],1,tblMovimenti[Indice mese],">="&$B$23,tblMovimenti[Indice mese],"<="&$B$24) -> 0 | H39: =C39*IF(N_Cat="Tutte",SUM(INDEX(Open_Matrix,4,0)),IFERROR(INDEX(Open_Matrix,4,MATCH(N_Cat,Cat_List,0)),0)) -> 0 | I39: =IF(C39=1,H39+SUMIFS(tblMovimenti[Ricevuti],tblMovimenti[Magazzino],$A39,tblMovimenti[Filtro giacenza],1,tblMovimenti[Data],"<="&$B$25)-SUMIFS(tblMovimenti[Spediti],tblMovimenti[Magazzino],$A39,tblMovimenti[Filtro giacenza],1,tblMovimenti[Data],"<="&$B$25)-SUMIFS(tblMovimenti[Danneggiati],tblMovimenti[Magazzino],$A39,tblMovimenti[Filtro giacenza],1,tblMovimenti[Data],"<="&$B$25),0) -> 0 | J39: =C39*INDEX(WH_Cap,4) -> 0 | K39: =IF(J39>0,I39/J39,0) -> 0 | L39: =SUMIFS(tblMovimenti[Costo stoccaggio],tblMovimenti[Magazzino],$A39,tblMovimenti[Filtro flussi],1,tblMovimenti[Indice mese],">="&$B$23,tblMovimenti[Indice mese],"<="&$B$24) -> 0 | M39: =SUMIFS(tblMovimenti[Costo movimentazione],tblMovimenti[Magazzino],$A39,tblMovimenti[Filtro flussi],1,tblMovimenti[Indice mese],">="&$B$23,tblMovimenti[Indice mese],"<="&$B$24) -> 0 | N39: =IF(C39=1,H39+SUMIFS(tblMovimenti[Ricevuti],tblMovimenti[Magazzino],$A39,tblMovimenti[Filtro giacenza],1,tblMovimenti[Data],"<="&$B$29)-SUMIFS(tblMovimenti[Spediti],tblMovimenti[Magazzino],$A39,tblMovimenti[Filtro giacenza],1,tblMovimenti[Data],"<="&$B$29)-SUMIFS(tblMovimenti[Danneggiati],tblMovimenti[Magazzino],$A39,tblMovimenti[Filtro giacenza],1,tblMovimenti[Data],"<="&$B$29),0) -> 0 | O39: =IF(C39=1,H39+SUMIFS(tblMovimenti[Ricevuti],tblMovimenti[Magazzino],$A39,tblMovimenti[Filtro giacenza],1,tblMovimenti[Data],"<="&$B$30)-SUMIFS(tblMovimenti[Spediti],tblMovimenti[Magazzino],$A39,tblMovimenti[Filtro giacenza],1,tblMovimenti[Data],"<="&$B$30)-SUMIFS(tblMovimenti[Danneggiati],tblMovimenti[Magazzino],$A39,tblMovimenti[Filtro giacenza],1,tblMovimenti[Data],"<="&$B$30),0) -> 0
A40: =IF(INDEX(WH_Code,5)="","",INDEX(WH_Code,5)) | B40: =IF(INDEX(WH_Code,5)="","",INDEX(WH_City,5)&"") | C40: =--AND(A40<>"",OR(N_WH="Tutti",A40=N_WH),OR(N_City="Tutte",B40=N_City)) -> 0 | D40: =COUNTIFS(tblMovimenti[Magazzino],$A40,tblMovimenti[Filtro flussi],1,tblMovimenti[Indice mese],">="&$B$23,tblMovimenti[Indice mese],"<="&$B$24) -> 0 | E40: =SUMIFS(tblMovimenti[Ricevuti],tblMovimenti[Magazzino],$A40,tblMovimenti[Filtro flussi],1,tblMovimenti[Indice mese],">="&$B$23,tblMovimenti[Indice mese],"<="&$B$24) -> 0 | F40: =SUMIFS(tblMovimenti[Spediti],tblMovimenti[Magazzino],$A40,tblMovimenti[Filtro flussi],1,tblMovimenti[Indice mese],">="&$B$23,tblMovimenti[Indice mese],"<="&$B$24) -> 0 | G40: =SUMIFS(tblMovimenti[Danneggiati],tblMovimenti[Magazzino],$A40,tblMovimenti[Filtro flussi],1,tblMovimenti[Indice mese],">="&$B$23,tblMovimenti[Indice mese],"<="&$B$24) -> 0 | H40: =C40*IF(N_Cat="Tutte",SUM(INDEX(Open_Matrix,5,0)),IFERROR(INDEX(Open_Matrix,5,MATCH(N_Cat,Cat_List,0)),0)) -> 0 | I40: =IF(C40=1,H40+SUMIFS(tblMovimenti[Ricevuti],tblMovimenti[Magazzino],$A40,tblMovimenti[Filtro giacenza],1,tblMovimenti[Data],"<="&$B$25)-SUMIFS(tblMovimenti[Spediti],tblMovimenti[Magazzino],$A40,tblMovimenti[Filtro giacenza],1,tblMovimenti[Data],"<="&$B$25)-SUMIFS(tblMovimenti[Danneggiati],tblMovimenti[Magazzino],$A40,tblMovimenti[Filtro giacenza],1,tblMovimenti[Data],"<="&$B$25),0) -> 0 | J40: =C40*INDEX(WH_Cap,5) -> 0 | K40: =IF(J40>0,I40/J40,0) -> 0 | L40: =SUMIFS(tblMovimenti[Costo stoccaggio],tblMovimenti[Magazzino],$A40,tblMovimenti[Filtro flussi],1,tblMovimenti[Indice mese],">="&$B$23,tblMovimenti[Indice mese],"<="&$B$24) -> 0 | M40: =SUMIFS(tblMovimenti[Costo movimentazione],tblMovimenti[Magazzino],$A40,tblMovimenti[Filtro flussi],1,tblMovimenti[Indice mese],">="&$B$23,tblMovimenti[Indice mese],"<="&$B$24) -> 0 | N40: =IF(C40=1,H40+SUMIFS(tblMovimenti[Ricevuti],tblMovimenti[Magazzino],$A40,tblMovimenti[Filtro giacenza],1,tblMovimenti[Data],"<="&$B$29)-SUMIFS(tblMovimenti[Spediti],tblMovimenti[Magazzino],$A40,tblMovimenti[Filtro giacenza],1,tblMovimenti[Data],"<="&$B$29)-SUMIFS(tblMovimenti[Danneggiati],tblMovimenti[Magazzino],$A40,tblMovimenti[Filtro giacenza],1,tblMovimenti[Data],"<="&$B$29),0) -> 0 | O40: =IF(C40=1,H40+SUMIFS(tblMovimenti[Ricevuti],tblMovimenti[Magazzino],$A40,tblMovimenti[Filtro giacenza],1,tblMovimenti[Data],"<="&$B$30)-SUMIFS(tblMovimenti[Spediti],tblMovimenti[Magazzino],$A40,tblMovimenti[Filtro giacenza],1,tblMovimenti[Data],"<="&$B$30)-SUMIFS(tblMovimenti[Danneggiati],tblMovimenti[Magazzino],$A40,tblMovimenti[Filtro giacenza],1,tblMovimenti[Data],"<="&$B$30),0) -> 0
A41: Totale | D41: =SUM(D36:D40) -> 0 | E41: =SUM(E36:E40) -> 0 | F41: =SUM(F36:F40) -> 0 | G41: =SUM(G36:G40) -> 0 | H41: =SUM(H36:H40) -> 0 | I41: =SUM(I36:I40) -> 0 | J41: =SUM(J36:J40) -> 0 | K41: =IF(J41>0,I41/J41,0) -> 0 | L41: =SUM(L36:L40) -> 0 | M41: =SUM(M36:M40) -> 0 | N41: =SUM(N36:N40) -> 0 | O41: =SUM(O36:O40) -> 0
A43: D · PER CATEGORIA
A44: Categoria | B44: Inclusa | C44: Ricevuti | D44: Spediti | E44: Danneggiati | F44: Quota ricevuti
...
